BEGIN:VCALENDAR
VERSION:2.0
PRODID:-//hacksw/handcal//NONSGML v1.0//EN
BEGIN:VEVENT
SUMMARY:Entrainement
UID:434574d7-bd48-402e-afc9-90d5a6fe7731
DTSTART:20260402T163000Z
DTEND:20260402T183000Z
LOCATION:Localisation   
CATEGORIES:Sportif
STATUS:
DESCRIPTION:<p><u>Groupe Marathon </u></p>
 
 <p>Echauffement
 20mn</p>
 
 <p>3 X 20mn allure marathon - recup  entre
 serie3mn</p>
 
 <p>Retour au calme 15mn</p>
 
 <p><u>Groupe 1 et Groupe
 2</u></p>
 
 <p>Echauffement 30mn</p>
 
 <p>5 a 6 X 3mn recup
 1mn </p>
 
 <p>Retour au calme 10mn</p>
URL;VALUE=URI:https://www.coccathle.fr/evenements/2026/04/02/entrainement-2435872
END:VEVENT
END:VCALENDAR
