BEGIN:VCALENDAR
VERSION:2.0
PRODID:-//hacksw/handcal//NONSGML v1.0//EN
BEGIN:VEVENT
SUMMARY:Entrainement
UID:8e16834a-691c-43cd-a71a-974e47d7fd5e
DTSTART:20260331T163000Z
DTEND:20260331T183000Z
LOCATION:Localisation   
CATEGORIES:Sportif
STATUS:
DESCRIPTION:<p><u>Groupe Marathon </u></p>
 
 <p>Echauffement
 30mn</p>
 
 <p>12 X 100m recup 100m (100% VMA)</p>
 
 <p>Retour au calme
 10mn</p>
 
 <p><u>Groupe 1 et Groupe 2</u></p>
 
 <p>Echauffement
 30mn</p>
 
 <p>Differents petits ateliers</p>
 
 <p>Retour au calme
 10mn</p>
URL;VALUE=URI:https://www.coccathle.fr/evenements/2026/03/31/entrainement-2422676
END:VEVENT
END:VCALENDAR
